BEGIN:VCALENDAR
VERSION:2.0
PRODID:-//TPO Human Resource Management - ECPv6.15.20//NONSGML v1.0//EN
CALSCALE:GREGORIAN
METHOD:PUBLISH
X-ORIGINAL-URL:https://tpohr.com
X-WR-CALDESC:Events for TPO Human Resource Management
REFRESH-INTERVAL;VALUE=DURATION:PT1H
X-Robots-Tag:noindex
X-PUBLISHED-TTL:PT1H
BEGIN:VTIMEZONE
TZID:UTC
BEGIN:STANDARD
TZOFFSETFROM:+0000
TZOFFSETTO:+0000
TZNAME:UTC
DTSTART:20240101T000000
END:STANDARD
END:VTIMEZONE
BEGIN:VEVENT
DTSTART;TZID=UTC:20250501T090000
DTEND;TZID=UTC:20250501T100000
DTSTAMP:20260423T084223
CREATED:20241111T194519Z
LAST-MODIFIED:20241119T234038Z
UID:10000165-1746090000-1746093600@tpohr.com
SUMMARY:Personality Clashes
DESCRIPTION:ARE PERSONALITY CLASHES ON THE RISE? Or Is It My Imagination?\nIt is not your imagination! \nToday’s employers are encountering an uptick of disagreements at work\, sometimes escalating to quarrels or even clashes. What’s triggering this and how can we get ahead of it by instilling a culture of respectful communication at work? Understanding conflict is a critical first step! Learn when conflict is beneficial (creative abrasion) and when it’s not. \nDuring this 1-Hour program\, you will: \n\nLearn Top 5 Reasons for Conflict that Influence Personality Clashes\nUse a Simple Tool to Help Diagnose Conflict in Your Organization\nIdentify the 5 Management Conflict Styles & Assess Your Style\nRecognize How Conflict Can Lead to Better Outcomes\nBe Able to Choose a Response that Results in the Best Outcomes\n\nAudience: Supervisors/Managers/HR \n\n    Schedule and Registration﻿ 9:00am - 10:00am Member Rate: $99 per participant* Non-Member Rate: $129 per participant  VirtuaLive Schedule: April 30\, 2026 \n    \n        \n            \n                TPO Member \n                \n                    \n                \n                \n                    \n                        \n                    \n                    \n                        \n                    \n                \n            \n        \n    \n;*Discount Code: Member (case sensitive) \n    \n        \n            \n                Register to Attend a Prescheduled Multi-Client Program \n                \n                    \n                \n                \n                    \n                        \n                    \n                    \n                        \n                    \n                \n            \n        \n    \n;\n    \n        \n            \n                Purchase 1-Week Video Recording Access Pass of Upcoming Prescheduled Program \n                \n                    \n                \n                \n                    \n                        \n                    \n                    \n                        \n                    \n                \n            \n        \n    \n;\n    \n        \n            \n                Purchase 1-Week Video Recording Access Pass of Previously Recorded Program (Available Now) \n                \n                    \n                \n                \n                    \n                        \n                    \n                    \n                        \n                    \n                \n            \n        \n    \n;\n    \n        \n            \n                Schedule Client Exclusive (In-person and/or on-line) \n                \n                    \n                \n                \n                    \n                        \n                    \n                    \n                        \n                    \n                \n            \n        \n    \n;\n    \n        \n            \n                Request More Information \n                \n                    \n                \n                \n                    \n                        \n                    \n                    \n                        \n                    \n                \n            \n        \n    \n;
URL:https://tpohr.com/event/personality-clashes/
ORGANIZER;CN="TPO Admin":MAILTO:admin@tpohr.com
END:VEVENT
END:VCALENDAR