BEGIN:VCALENDAR
VERSION:2.0
PRODID:-//TPO Human Resource Management - ECPv6.15.20//NONSGML v1.0//EN
CALSCALE:GREGORIAN
METHOD:PUBLISH
X-ORIGINAL-URL:https://tpohr.com
X-WR-CALDESC:Events for TPO Human Resource Management
REFRESH-INTERVAL;VALUE=DURATION:PT1H
X-Robots-Tag:noindex
X-PUBLISHED-TTL:PT1H
BEGIN:VTIMEZONE
TZID:UTC
BEGIN:STANDARD
TZOFFSETFROM:+0000
TZOFFSETTO:+0000
TZNAME:UTC
DTSTART:20230101T000000
END:STANDARD
END:VTIMEZONE
BEGIN:VEVENT
DTSTART;TZID=UTC:20241106T090000
DTEND;TZID=UTC:20241106T110000
DTSTAMP:20260422T213051
CREATED:20240315T155934Z
LAST-MODIFIED:20240903T191624Z
UID:10000121-1730883600-1730890800@tpohr.com
SUMMARY:Essential Wage & Hour
DESCRIPTION:If You Administer Payroll\, You Need to Sit in on this One! \nCovering the most commonly misunderstood and incorrectly applied principles of CA and Federal wage & hour compliance that (collectively) cost employers millions each year. Tune in to what you need to know about wage and hour compliance by staying ahead of significant wage and hour risks to prevent (avoidable) litigation. “You’ll be glad you did!”\n\n\n\n\nThe Five Exemptions\nSalary Thresholds\nCategories of Employment\nOvertime Requirements and Exemptions\nReporting Time Pay\nRegular Rates of Pay\n\n\n\n\nCommissions\nNon-Discretionary Bonuses\nPiece Rate\nIndependent Contractors\nFinal Pay\n\n\n\n\n\n\n    Schedule and Registration﻿ 9:00am - 11:00am Member Rate: $245 per participant* Non-Member Rate: $295 per participant  VirtuaLive Schedule:  November 6\, 2024                             TPO Member                     *Discount Code: Member (case sensitive)                             Register to Attend a Prescheduled Multi-Client Program                                                 Purchase 3-Day Video Recording Access Pass                                                 Schedule Client Exclusive (In-person and/or on-line)                                                 Request More Information
URL:https://tpohr.com/event/essential-wage-hour-2/
LOCATION:VirtuaLive Online
ORGANIZER;CN="TPO Admin":MAILTO:admin@tpohr.com
END:VEVENT
BEGIN:VEVENT
DTSTART;TZID=UTC:20241120T090000
DTEND;TZID=UTC:20241120T110000
DTSTAMP:20260422T213051
CREATED:20240315T163945Z
LAST-MODIFIED:20240903T191745Z
UID:10000115-1732093200-1732100400@tpohr.com
SUMMARY:Excelling as a Supervisor/Manager
DESCRIPTION:Not All of Us Are Natural Leaders…Come Learn How to Lead Like the Pros As a manager\, supervisor or leader\, you face a wide variety of new challenges. In addition to accomplishing your own projects\, you are expected to build and motivate a team to meet department and company goals. During this 2-hour program\, we will explore practical techniques\, tips and solutions you will need for success in your management role. Participants will learn about: \n\nThe key roles and functions of a manager\, supervisor or lead.\nThe importance of effective communication in a management position.\nHow to exhibit leadership so others will follow.\nIdentifying stages of team development while recognizing where your team is now.\n\n\n\n\n\n\n    Schedule and Registration﻿ 9:00am - 11:00am Member Rate: $245 per participant* Non-Member Rate: $295 per participant  VirtuaLive Schedule: November 20\, 2024                             TPO Member                     *Discount Code: Member (case sensitive)                             Register to Attend a Prescheduled Multi-Client Program                                                 Purchase 3-Day Video Recording Access Pass of Upcoming Prescheduled Program                                                 Purchase 3-Day Video Recording Access Pass of Previously Recorded Program (Available Now)                                                 Schedule Client Exclusive (In-person and/or on-line)                                                 Request More Information
URL:https://tpohr.com/event/excelling-as-a-supervisor-manager-2-2/
LOCATION:VirtuaLive Online
ORGANIZER;CN="TPO Admin":MAILTO:admin@tpohr.com
END:VEVENT
END:VCALENDAR