BEGIN:VCALENDAR
VERSION:2.0
PRODID:-//TPO Human Resource Management - ECPv6.15.20//NONSGML v1.0//EN
CALSCALE:GREGORIAN
METHOD:PUBLISH
X-ORIGINAL-URL:https://tpohr.com
X-WR-CALDESC:Events for TPO Human Resource Management
REFRESH-INTERVAL;VALUE=DURATION:PT1H
X-Robots-Tag:noindex
X-PUBLISHED-TTL:PT1H
BEGIN:VTIMEZONE
TZID:UTC
BEGIN:STANDARD
TZOFFSETFROM:+0000
TZOFFSETTO:+0000
TZNAME:UTC
DTSTART:20230101T000000
END:STANDARD
END:VTIMEZONE
BEGIN:VEVENT
DTSTART;TZID=UTC:20240911T090000
DTEND;TZID=UTC:20240911T110000
DTSTAMP:20260422T183230
CREATED:20240903T185244Z
LAST-MODIFIED:20240904T180128Z
UID:10000120-1726045200-1726052400@tpohr.com
SUMMARY:How to Keep Your Best Employees
DESCRIPTION:It’s Never Been More Important! \nEmployees want more and difference things and employers need to rethink their retention practices… or their best people will move on. True Engagement is an Employer’s Most Potent Competitive Advantage – but that’s easier said than done. There are endless variables\, requiring a strategic level of approaches to keep your top performers in 2022’s challenging job market. You will learn some of the innovative ways smart employers are drilling it down and reinforcing a culture of respect and enrichment. They are infusing meaningful value of work and providing flexibility to help retain their employees. We’ll help you think this through\, including:\n\n\n\n\nToday’s Top 5 Retention Challenges\nA Model to Retain Your Best\nLeveraging “Purpose”\n\n\n\n\nEssential Leader & Manager Capabilities\nThe Power of Differentiation\nThe “Stay Interview”\n\n\n\n\n\n\n    Schedule and Registration﻿ 9:00am - 11:00am Member Rate: $245 per participant* Non-Member Rate: $295 per participant  VirtuaLive Schedule: September 11\, 2024                             TPO Member                     *Discount Code: Member (case sensitive)                             Register to Attend a Prescheduled Multi-Client Program                                                 Purchase 3-Day Video Recording Access Pass                                                 Schedule Client Exclusive (In-person and/or on-line)                                                 Request More Information
URL:https://tpohr.com/event/more-about-how-to-keep-your-best-employees-2/
LOCATION:VirtuaLive Online
ORGANIZER;CN="TPO Admin":MAILTO:admin@tpohr.com
END:VEVENT
BEGIN:VEVENT
DTSTART;TZID=UTC:20240926T090000
DTEND;TZID=UTC:20240926T110000
DTSTAMP:20260422T183230
CREATED:20241016T010018Z
LAST-MODIFIED:20241016T175452Z
UID:10000110-1727341200-1727348400@tpohr.com
SUMMARY:ENGLISH – All-Staff Harassment\, Discrimination & Retaliation Prevention
DESCRIPTION:Respecting Diversity in the Workplace – NEW  \n California law requires organizations with 5 or more employees to provide harassment training:\n\n\nSUPERVISORS\nNON-SUPERVISORS\nTemporary/Seasonal Employees\n\n\nAt least 2 hours of training: \n\nwithin 6-months of hire or promotion\, and\nevery two years\n\n\nAt least 1 hour of training: \n\nwithin 6-months of hire\, and\nevery two years.\n\n\nWhere this classification is expected to work less than 6-months: \n\n30-days of hire\, or\n100-hours actually worked.\n\n\n\n\nTPO’s interactive training program goes beyond the topic of sexual harassment to address all forms of unlawful harassment\, discrimination\, and retaliation in the workplace (age\, race\, religion\, disability\, sexual orientation\, etc.) in the workplace. \nOur TPO Experts keep it relevant by including hypothetical situations\, real-life examples\, real-time discussions\, reference materials\, and acknowledgment forms to sign for personnel files. \nTPO has trained over 10\,000 managers\, supervisors\, and employees on the prevention of harassment and discrimination. \n\n    English - Schedule and Registration﻿ Non-Supervisors & Supervisors in hour one; Supervisors continue for hour two.    VirtuaLive Schedule: December 11\, 2025 Non-Supervisor 9:00am - 10:00am Member Rate: $35 per participant* Cost: $45 per participant** **Discount Code: EE (case sensitive) Supervisor 9:00am - 11:00am Member Rate: $50 per participant* Non-Member Rate: $65 per participant  TPO Member *Discount Code: MemberEE (case sensitive) *Discount Code: MemberSUP (case sensitive) Register to Attend a Prescheduled Multi-Client Program Purchase 1-Week Video Recording Access Pass of Upcoming Prescheduled Progam Purchase 1-Week Video Recording Access Pass of Previously Recorded Program (Available Now) Schedule Client Exclusive (In-person and/or on-line) Request More Information
URL:https://tpohr.com/event/english-all-staff-harassment-discrimination-retaliation-prevention-2/2024-09-26/
LOCATION:VirtuaLive Online
ORGANIZER;CN="TPO Admin":MAILTO:admin@tpohr.com
END:VEVENT
END:VCALENDAR