BEGIN:VCALENDAR
VERSION:2.0
PRODID:-//TPO Human Resource Management - ECPv6.15.20//NONSGML v1.0//EN
CALSCALE:GREGORIAN
METHOD:PUBLISH
X-WR-CALNAME:TPO Human Resource Management
X-ORIGINAL-URL:https://tpohr.com
X-WR-CALDESC:Events for TPO Human Resource Management
REFRESH-INTERVAL;VALUE=DURATION:PT1H
X-Robots-Tag:noindex
X-PUBLISHED-TTL:PT1H
BEGIN:VTIMEZONE
TZID:UTC
BEGIN:STANDARD
TZOFFSETFROM:+0000
TZOFFSETTO:+0000
TZNAME:UTC
DTSTART:20240101T000000
END:STANDARD
END:VTIMEZONE
BEGIN:VEVENT
DTSTART;TZID=UTC:20250313T090000
DTEND;TZID=UTC:20250313T110000
DTSTAMP:20260423T065950
CREATED:20241030T233353Z
LAST-MODIFIED:20250523T170942Z
UID:10000153-1741856400-1741863600@tpohr.com
SUMMARY:California Employment Essentials - 3 Part Series
DESCRIPTION:Increase Skills & Confidence / Minimize Legal Challenges / Reduce Missteps \nWHAT SUPERVISORS\, MANAGERS & HR STAFF MUST KNOW! \nTaught by TPO’s certified expert HR Consultants/Trainers\, VituaLive Online CA Employment Essentials (CEE) provides a convenient quick course covering critical HR basics including employment regulations\, compliance and HR best practices. After just THREE 2-HOUR SESSIONS\, managers with direct reports and HR support staff learn the fundamentals and context of their HR roles and responsibilities\, CEE builds confidence to know when to slow it down\, put things on hold\, get the right answers; and THEN proceed.\n\n\nSESSION 1  \nMarch 6th\, 9:00-11:00 a.m.\nSESSION 2  \nMarch 13th\, 9:00-11:00 a.m.\nSESSION 3  \nMarch 20th\, 9:00-11:00 a.m.\n\n\n\n\nThe Role of the Supervisor/Manager\nEmployment Regulations\nRecruiting\, Interviewing\, & Hiring\n\n\n\n\nOnboarding\, Training & Development\nGiving & Receiving Feedback/Documentation\nPerformance Planning & Management\n\n\n\n\nTime Away from Work\nSeparation of Employment\nPutting it All Together\n\n\n\n\nWHO SHOULD ATTEND? \n\nANYONE with direct reports counted on to “Get HR Right”\nHR Staff and/or those with HR Responsibility\nThose who wish to evaluate additional professional development needs\n\n\n\n\n\n\n    Schedule and Registration﻿ 9:00am - 11:00am Member Rate: $695 per participant* Non-Member Rate: $825 per participant  VirtuaLive Schedule: October 16\, 23\, 30 2025 TPO Member *Discount Code: Member (case sensitive) Register to Attend a Prescheduled Multi-Client Program Purchase 1-Week Video Recording Access Pass of Upcoming Prescheduled Program Purchase 1-Week Video Recording Access Pass of Previously Recorded Program (Available Now) Schedule Client Exclusive (In-person and/or on-line) Request More Information
URL:https://tpohr.com/event/california-employment-essentials/2025-03-13/
ORGANIZER;CN="TPO Admin":MAILTO:admin@tpohr.com
END:VEVENT
END:VCALENDAR